BEGIN:VCALENDAR
VERSION:2.0
PRODID:-//AGFC//Match//FR
BEGIN:VEVENT
UID:match-31963@agfc.ch
DTSTAMP:20260419T152527
DTSTART:20260319T204500
DTEND:20260319T221500
SUMMARY:Fc SRG ENGINEERING ** Fc Manufacture d’Horlogerie Audemars Piguet SA,
LOCATION:Stade des Arbères
END:VEVENT
END:VCALENDAR
